BEGIN:VCALENDAR
VERSION:2.0
CALSCALE:GREGORIAN
PRODID:-//MyApp//Calendar 1.0//EN
BEGIN:VEVENT
METHOD:PUBLISH
UID:33841@regionalniportaly.cz
DTSTAMP:20260422T043243Z
DTSTART;VALUE=DATE:20230818
DTEND;VALUE=DATE:20230819
SUMMARY:Slánský festival Valník 2023
DESCRIPTION:
LOCATION:Slaný
END:VEVENT
END:VCALENDAR