BEGIN:VCALENDAR
VERSION:2.0
CALSCALE:GREGORIAN
PRODID:-//MyApp//Calendar 1.0//EN
BEGIN:VEVENT
METHOD:PUBLISH
UID:33846@regionalniportaly.cz
DTSTAMP:20260422T043302Z
DTSTART;VALUE=DATE:20230730
DTEND;VALUE=DATE:20230731
SUMMARY:Pohádka v Letňáku: Zvěřinec pana Ezopa
DESCRIPTION:
LOCATION:Slaný
END:VEVENT
END:VCALENDAR