BEGIN:VCALENDAR
VERSION:2.0
CALSCALE:GREGORIAN
PRODID:-//MyApp//Calendar 1.0//EN
BEGIN:VEVENT
METHOD:PUBLISH
UID:33990@regionalniportaly.cz
DTSTAMP:20260422T043252Z
DTSTART;VALUE=DATE:20230916
DTEND;VALUE=DATE:20230917
SUMMARY:ZRNÍ na Červeňáku 2023
DESCRIPTION:Při loňském koncertě s výhledem na Louny jsme si plácli na to\, že tohle místo stojí za pravidelné opakování. Takže nás tu máte znovu\, s městem za zády\, lesem za vámi a novou deskou v éteru.Vstupné na místě 340 Kč. Předprodej od 270 Kč. Na rozhledně je omezená kapacita!
LOCATION:Louny
END:VEVENT
END:VCALENDAR