BEGIN:VCALENDAR
VERSION:2.0
CALSCALE:GREGORIAN
PRODID:-//MyApp//Calendar 1.0//EN
BEGIN:VEVENT
METHOD:PUBLISH
UID:36105@regionalniportaly.cz
DTSTAMP:20260422T105604Z
DTSTART;VALUE=DATE:20240114
DTEND;VALUE=DATE:20240115
SUMMARY:Lež ...aneb komedie o pravdě v Lounech
DESCRIPTION:Alice a Paul jsou poměrně šťastný a spokojený manželský pár. Jednoho dne čekají hosty k večeři – své dlouholeté přátele Laurence a Michela\, kteří také žijí v harmonickém manželství. Alice je ale celá nesvá a žádá po manželovi\, aby večeři na poslední chvíli odvolal. Ten se samozřejmě brání a chce znát důvod\, proč by to měl udělat. Ovšem ona mu pravý důvod nechce říct: toho dne dopoledne zahlédla ve městě Michela\, jak se líbá s cizí ženou. Alice je tak postavena před velké morální dilema: udělá přítelkyni větší službu\, když jí o tom řekne\, nebo když jí to naopak zamlčí? Oba se rozhodnou večeři odložit\, ovšem v tu chvíli už jejich přátelé zvoní u dveří a společný večer musí proběhnout. Nejistota a různé postoje Alice a Paula vedou ke spoustě humorných situací a k zajímavému rozuzlení…Hrají: Jan Dolanský\, Petra Špalková\, Petr Lněnička\, Eva Kodešová / Gabriela Mikulová&nbsp\;&nbsp\;
LOCATION:Louny
END:VEVENT
END:VCALENDAR