BEGIN:VCALENDAR
VERSION:2.0
CALSCALE:GREGORIAN
PRODID:-//MyApp//Calendar 1.0//EN
BEGIN:VEVENT
METHOD:PUBLISH
UID:36708@regionalniportaly.cz
DTSTAMP:20260422T075956Z
DTSTART;VALUE=DATE:20240622
DTEND;VALUE=DATE:20240623
SUMMARY:HudliceFest 2024
DESCRIPTION:HudliceFest 20245.ročník jednodenního hudebního festivalu\, který se uskuteční v sobotu 22.6.2026&nbsp\;&nbsp\;od 13.00 ve sportovním areálu v Hudlicích&nbsp\;Zábavný program pro dětiMalování na obličej - Vše pro dětský úsměvSkákací nafukovací hradDovednostní hryDěti do 12 let v doprovodu rodičů mají vstup zdarma.Držitelé průkazu ZTP/P + doprovod mají vstup zdarma.22.6.2024 od 13 hodin (brány festivalu se otevřou ve 12:30) se uskuteční ve sportovním areálu v Hudlicích 5. ročník charitativního festivalu HudliceFest.Posláním pátého ročníku bude tentokráte finančně pomoci organizaci&nbsp\;KLUBÍČKO BEROUN\, z.ú.&nbsp\;
LOCATION:Hudlice
END:VEVENT
END:VCALENDAR