BEGIN:VCALENDAR
VERSION:2.0
CALSCALE:GREGORIAN
PRODID:-//MyApp//Calendar 1.0//EN
BEGIN:VEVENT
METHOD:PUBLISH
UID:38366@regionalniportaly.cz
DTSTAMP:20260422T061602Z
DTSTART;VALUE=DATE:20240120
DTEND;VALUE=DATE:20240121
SUMMARY:Postav si budku\, hmyzí hotel...
DESCRIPTION:Přijďte si s námi připravit zázemí pro ptáky a hmyz na vaší zahradě. Tentokrát máte možnost vybrat si stavbu hnízdní budky\, krmítka pro ptáky\, nebo hmyzího hotelu. Menší děti v doprovodu šikovných rodičů. Těšíme se na vás od 9:00 - 13:00 na Ostrově.Přihlášky do 17.1. Cena 200 Kč za jednotlivou dílnu.
LOCATION:Slaný
END:VEVENT
END:VCALENDAR