BEGIN:VCALENDAR
VERSION:2.0
CALSCALE:GREGORIAN
PRODID:-//MyApp//Calendar 1.0//EN
BEGIN:VEVENT
METHOD:PUBLISH
UID:38534@regionalniportaly.cz
DTSTAMP:20260422T071658Z
DTSTART;VALUE=DATE:20240520
DTEND;VALUE=DATE:20240521
SUMMARY:Sirény na cestách | Divadlo Louny
DESCRIPTION:Zábavná&nbsp\;talk-show ženské trojice hereček a zpěvaček Sandry Pogodové\, Jitky Asterové a Lindy Finkové míří do Loun!Sandra Pogodová - Jitka Asterová - Linda FinkováZcela nová zábavná talk show ženské trojice hereček a zpěvaček Sandry Pogodové\, Jitky Asterové a Lindy Finkové\, jejich neotřelý smysl pro humor a vzájemná chuť si ze sebe utahovat vás rozhodně pobaví.Pořad je plný šťavnatých vyprávění a historek ze zákulisí natáčení a divadelního světa.To vše prošpikováno šansony a písněmi z muzikálů tvoří dokonalý program\, na který budete dlouho vzpomínat s úsměvem na tváři.Po skončení pořadu následuje jako bonus autogramiáda
LOCATION:Louny
END:VEVENT
END:VCALENDAR