BEGIN:VCALENDAR
VERSION:2.0
CALSCALE:GREGORIAN
PRODID:-//MyApp//Calendar 1.0//EN
BEGIN:VEVENT
METHOD:PUBLISH
UID:39580@regionalniportaly.cz
DTSTAMP:20260422T071800Z
DTSTART;VALUE=DATE:20240512
DTEND;VALUE=DATE:20240513
SUMMARY:Marie Tilšarová - Sváteční recitál
DESCRIPTION:DŮLEŽITÉ - PŘEČTI SI I KOLONKU "VÍCE&nbsp\;INFORMACÍ" NÍŽE!!!Po velmi úspěšném prvním "Svátečním recitálu" přichází Marie Tilšarová s dalším\, na stejném místě - tedy v nedostavěném chrámu v Panenském Týnci.Tentokrát svátek vychází na Den Matek.Přijďte nasát atmosféru písní autentické písničkářky do místa\, které je samo o sobě dosti magické.&nbsp\;Akce se bude konat za jakéhokoliv počasí.
LOCATION:Panenský Týnec
END:VEVENT
END:VCALENDAR