BEGIN:VCALENDAR
VERSION:2.0
CALSCALE:GREGORIAN
PRODID:-//MyApp//Calendar 1.0//EN
BEGIN:VEVENT
METHOD:PUBLISH
UID:42412@regionalniportaly.cz
DTSTAMP:20260422T061733Z
DTSTART;VALUE=DATE:20240607
DTEND;VALUE=DATE:20240608
SUMMARY:Stand-up comedy Show v Lounech
DESCRIPTION:Nejste citlivky a chcete se pořádně zasmát?Baví vás humor drsný jako Chuck Norris v nejlepších letech?Pak jste tady správně!Zveme vás na pořádnou stand-up comedy show v&nbsp\;Restauraci Stromovka v&nbsp\;Lounech!Vystoupí pro vás čtveřice komiků:David Klouda - Bývalý 160kilový cvalík\, který bůhvíproč nikdy nedělal sumo. I když hodně zhubnul\, stále je hrdým tlouštíkem a také o váze bude jeho stand-up.Karel Petrdlík - Neřízená střela\, která nemluví jen ve chvíli\, kdy se nadechuje k dalšímu mluvení.Jiří Štraub - Stand-up komik\, spisovatel\, novinář a moderátor. To je profil člověka\, který dělá všechno\, ale neumí nic. Aspoň ten humor mu docela jde\, říkala babička.Zdeněk Hruška - Hot wheels mástr všech u-ramp a Jedličkova ústavu. Až ho uvidíte\, tak to pochopíte.POČET LÍSTKŮ JE OMEZEN\, JE MOŽNÉ\, ŽE NA MÍSTĚ UŽ NEBUDOU K DOSTÁNÍ. Doporučujeme tedy koupit lístky v předprodeji.Těšíme se na vás a humoru zdar!!!
LOCATION:Louny
END:VEVENT
END:VCALENDAR