BEGIN:VCALENDAR
VERSION:2.0
CALSCALE:GREGORIAN
PRODID:-//MyApp//Calendar 1.0//EN
BEGIN:VEVENT
METHOD:PUBLISH
UID:48557@regionalniportaly.cz
DTSTAMP:20260422T105502Z
DTSTART;VALUE=DATE:20250822
DTEND;VALUE=DATE:20250823
SUMMARY:Slánský festival VALNÍK
DESCRIPTION:Již 26. ročník tradičního slánského hudebního open air festivalu VALNÍK letos proběhne ve dnech 22. - 23. srpna 2025 a stejně jako v posledních letech se bude konat opět jako akce DVOUDENNÍ.Oba dva festivalové dny se budou odehrávat na tradičním místě\, v krásném areálu LETNÍHO KINA SLANÝ.
LOCATION:Slaný
END:VEVENT
END:VCALENDAR