BEGIN:VCALENDAR
VERSION:2.0
CALSCALE:GREGORIAN
PRODID:-//MyApp//Calendar 1.0//EN
BEGIN:VEVENT
METHOD:PUBLISH
UID:49693@regionalniportaly.cz
DTSTAMP:20260422T155812Z
DTSTART;VALUE=DATE:20250221
DTEND;VALUE=DATE:20250222
SUMMARY:TOTÁLNÍ NASAZENÍ v Libčevsi
DESCRIPTION:Koncert Totálního nasazení v Libčevsi.Support: DILEMMA IN CINEMA / punk / Slaný
LOCATION:Libčeves
END:VEVENT
END:VCALENDAR