BEGIN:VCALENDAR
VERSION:2.0
CALSCALE:GREGORIAN
PRODID:-//MyApp//Calendar 1.0//EN
BEGIN:VEVENT
METHOD:PUBLISH
UID:50198@regionalniportaly.cz
DTSTAMP:20260422T173440Z
DTSTART;VALUE=DATE:20250530
DTEND;VALUE=DATE:20250531
SUMMARY:KuKfest HP4: The Fialky\, Louty\, Tydle vidle\, Speaker 4
DESCRIPTION:Hudební festival KuKfest HP4\, je každoročně první velkou akcí v&nbsp\;klubu KuK\, ležícím u veslařského kanálu Labe aréna\, obklopeném lesy.&nbsp\;Jarní počasí nám dovoluje využít možnosti klubu na 100% a otevřít tak 12 metrů široká vrata\, čímž se prostor stává částečným open airem a kapacita tak dosahuje 250 osob.&nbsp\;V klubu během pěti let provozu vystoupila celá řada djs (dnb\, techno\, house\, disko) a hudebních skupin: Plexis a Petr Hošek\, Garage a Tony Ducháček\, SPS\, Houba\, Nežfaleš\, DPvJU\, Papír Sklo Plasty\, Louty\, Tydle vidle\, Švindl\, Fly to Mars\, Salón Rubín\, Absolutely free\, Beton\, Rido\, Babe LN\, Estewes\, Beast67\, Ozone\, Cinic\, MarkyP\, Marrk\, Lobo\, Skiny\, Paskvill\, Motive\, MK2\, Freekox\, Šabrada\, Shazzo&nbsp\;další.&nbsp\;
LOCATION:Račice
END:VEVENT
END:VCALENDAR