BEGIN:VCALENDAR
VERSION:2.0
CALSCALE:GREGORIAN
PRODID:-//MyApp//Calendar 1.0//EN
BEGIN:VEVENT
METHOD:PUBLISH
UID:51381@regionalniportaly.cz
DTSTAMP:20260422T185904Z
DTSTART;VALUE=DATE:20250404
DTEND;VALUE=DATE:20250405
SUMMARY:Tilšarka - koncert ve Slaném
DESCRIPTION:Marie Tilšarová (Tilšarka) s kapelou poprvé vystoupí ve Slaném.&nbsp\;Koncert plný energie a hloubavých i radostných písní bude v Nárožním domě.&nbsp\;
LOCATION:Slaný
END:VEVENT
END:VCALENDAR