BEGIN:VCALENDAR
VERSION:2.0
CALSCALE:GREGORIAN
PRODID:-//MyApp//Calendar 1.0//EN
BEGIN:VEVENT
METHOD:PUBLISH
UID:51588@regionalniportaly.cz
DTSTAMP:20260422T140336Z
DTSTART;VALUE=DATE:20250524
DTEND;VALUE=DATE:20250525
SUMMARY:MALVAFEST 2025
DESCRIPTION:MALVAFEST je multižánrový festival konaný v malebném areálu Malovarského rybníka ve Velvarech. V roce 2025 se festival uskuteční v sobotu 24. května.
LOCATION:Velvary
END:VEVENT
END:VCALENDAR