BEGIN:VCALENDAR
VERSION:2.0
CALSCALE:GREGORIAN
PRODID:-//MyApp//Calendar 1.0//EN
BEGIN:VEVENT
METHOD:PUBLISH
UID:52345@regionalniportaly.cz
DTSTAMP:20260422T123006Z
DTSTART;VALUE=DATE:20250516
DTEND;VALUE=DATE:20250517
SUMMARY:Koncert - Eagle Eye - Tarja Tribute
DESCRIPTION:Do Štětí&nbsp\;za vámi vyrážíme poprvé a věříme\, že i sem nás přijdete podpořit\, abychom se zase brzy mohli vrátit!&nbsp\;A na co se můžete těšit? Kromě našeho playlistu rozšiřujeme i náš merch. K trikům a samolepkám přibyly i klasické placky\, hrnky\, fotokarty\, nášivky\, kšiltovky\, či kapelní PIVO!&nbsp\;Tak se přijďte vybavit a hlavně pobavit! Těšíme se na vás!&nbsp\;
LOCATION:Štětí
END:VEVENT
END:VCALENDAR