BEGIN:VCALENDAR
VERSION:2.0
CALSCALE:GREGORIAN
PRODID:-//MyApp//Calendar 1.0//EN
BEGIN:VEVENT
METHOD:PUBLISH
UID:54196@regionalniportaly.cz
DTSTAMP:20260422T134530Z
DTSTART;VALUE=DATE:20250521
DTEND;VALUE=DATE:20250522
SUMMARY:Dejvické divadlo - Vražda Krále Gonzaga
DESCRIPTION:Vražda krále Gonzaga/Jiří HavelkaHrají: Barbara Lukešová - Klára Melíšková - Zdeňka Žádníková - Tomáš Jeřábek - Martin Myšička - Ivan TrojanRežie: Jiří HavelkaDélka představení:&nbsp\;2 hodiny 20 minut\, včetně přestávky&nbsp\;Hřích je hřích\, i když nám svědomí namlouvá opak.Na hrad Elsinor přijíždí skupina profesionálních herců. Hamlet jim zadává úkol: sehrát představení Vražda krále Gonzaga s několika úpravami\, které jim tam on sám připíše. Je to jeho past. Past na myši. Past na vraha. Chce nechat předvést divadelní kus\, který zrcadlí ohavný zločin spáchaný Claudiem a&nbsp\;věří\, že onen hříšník se pod tíhou sebereflexivního divadelního zážitku prozradí.Potud jedna z nejznámějších scén divadla na divadle ve světové dramatické literatuře. Hamlet – nebo Shakespeare – věří\, že divadlo má intenzitu detektoru lži. Že divadlo má moc odhalit pravdu. Že divadlo má sílu nahlodat svědomí diváka."Hamlet je hra o pomstě\, o svědomí\, o smrti. Profesor Hilský píše\, že Hamlet je permanentně nedokončený konec. Že Hamlet je především drama otázek a&nbsp\;pochyb. Respektive drama tázání se. Nepřetržitého kladení otázek. Myslím\, že to jediné jsme skutečně dodrželi."Jiří Havelka&nbsp\;
LOCATION:Velvary
END:VEVENT
END:VCALENDAR