BEGIN:VCALENDAR
VERSION:2.0
CALSCALE:GREGORIAN
PRODID:-//MyApp//Calendar 1.0//EN
BEGIN:VEVENT
METHOD:PUBLISH
UID:54573@regionalniportaly.cz
DTSTAMP:20260422T170339Z
DTSTART;VALUE=DATE:20250627
DTEND;VALUE=DATE:20250628
SUMMARY:Summer párty Slaný
DESCRIPTION:Summer Night Party Slaný 2025Zveme tě na nezapomenutelnou studentskou party plnou skvělé hudby\, drinků a letní atmosféry přímo v centru Slaného! Akce proběhne 27. června\, poslední den školy v městském centru Grand.Startujeme ve 20:00 a během večera tě čeká taneční vystoupení\, soutěže o ceny\, speciální summer drinky na baru a večer zakončí DJ Lába\, který to roztočí s těmi nejlepšími letními peckami.Vstupné je 300 Kč\, ale prvních 100 lístků za 197 Kč\, tak si svůj ulov včas!@summerparty_slany&nbsp\;
LOCATION:Slaný
END:VEVENT
END:VCALENDAR