BEGIN:VCALENDAR
VERSION:2.0
CALSCALE:GREGORIAN
PRODID:-//MyApp//Calendar 1.0//EN
BEGIN:VEVENT
METHOD:PUBLISH
UID:54994@regionalniportaly.cz
DTSTAMP:20260422T191341Z
DTSTART;VALUE=DATE:20250621
DTEND;VALUE=DATE:20250622
SUMMARY:Čtyřlístek pomoci pro Hynka 2025
DESCRIPTION:Rodinný charitativní festival pomoc pro Hynka 2025 den plné zábavy  jak pro děti tak dospělé  \, gastro zóna\, veškeré aktivity pro děti zdarma\, hudební vystoupení a mnoho dalšího \, kompletní informace na Facebooku Čtyřlístek pomoci zs\, přijdete se pobavit a udělat dobrý skutek.
LOCATION:Slaný
END:VEVENT
END:VCALENDAR