BEGIN:VCALENDAR
VERSION:2.0
CALSCALE:GREGORIAN
PRODID:-//MyApp//Calendar 1.0//EN
BEGIN:VEVENT
METHOD:PUBLISH
UID:55762@regionalniportaly.cz
DTSTAMP:20260424T111959Z
DTSTART;VALUE=DATE:20250816
DTEND;VALUE=DATE:20250817
SUMMARY:Globus Band Velvary 2025
DESCRIPTION:Tradiční letní zábava na VELVARSKÉM ÚČKU s kapelou GLOBUS BAND
LOCATION:Velvary
END:VEVENT
END:VCALENDAR