BEGIN:VCALENDAR
VERSION:2.0
CALSCALE:GREGORIAN
PRODID:-//MyApp//Calendar 1.0//EN
BEGIN:VEVENT
METHOD:PUBLISH
UID:59236@regionalniportaly.cz
DTSTAMP:20260422T140236Z
DTSTART;VALUE=DATE:20251107
DTEND;VALUE=DATE:20251108
SUMMARY:Slánské jazzové dny 58. ročník
DESCRIPTION:
LOCATION:Slaný
END:VEVENT
END:VCALENDAR