BEGIN:VCALENDAR
VERSION:2.0
CALSCALE:GREGORIAN
PRODID:-//MyApp//Calendar 1.0//EN
BEGIN:VEVENT
METHOD:PUBLISH
UID:60102@regionalniportaly.cz
DTSTAMP:20260422T000832Z
DTSTART;VALUE=DATE:20251214
DTEND;VALUE=DATE:20251215
SUMMARY:Zmrazovač - Il Congelatore
DESCRIPTION:Opera mafia o 3 dějstvíchDivadelní hra Il Congelatore vtáhne publikum do USA za podivných časů prohibice. Ve třech jednáních vypráví o osudech dobře etablovaného mafiánského klanu a sleduje cesty přistěhovalců v Novém světě.
LOCATION:Velvary
END:VEVENT
END:VCALENDAR