BEGIN:VCALENDAR
VERSION:2.0
CALSCALE:GREGORIAN
PRODID:-//MyApp//Calendar 1.0//EN
BEGIN:VEVENT
METHOD:PUBLISH
UID:60776@regionalniportaly.cz
DTSTAMP:20260422T092713Z
DTSTART;VALUE=DATE:20251129
DTEND;VALUE=DATE:20251130
SUMMARY:Adventní prohlídky
DESCRIPTION:🎄 Adventní prohlídky na zámku Veltrusy 🎄Už tuto sobotu • 10:00–16:00\nPojďte si zpříjemnit advent návštěvou míst\, kde před sto lety slavila Vánoce hraběcí rodina Chotků. Provedeme vás severozápadním křídlem zámku\, provoněným dobovou atmosférou\, tradicemi a malými tajemstvími\, která se předávaly z generace na generaci.\n✨ Dozvíte se třeba:• Kam se dával tradiční paradeisl – a proč se bez něj Vánoce neobešly• Co dělal na štědrovečerním stole bajgl• Proč se pod ubrus dávalo zrní\nZabalte se do šály\, vezměte děti\, přátele nebo jen vlastní zvědavost — a přijďte si užít advent jako z pohádky. 🌟\nTěšíme se na vás na zámku Veltrusy!
LOCATION:Veltrusy
END:VEVENT
END:VCALENDAR