BEGIN:VCALENDAR
VERSION:2.0
CALSCALE:GREGORIAN
PRODID:-//MyApp//Calendar 1.0//EN
BEGIN:VEVENT
METHOD:PUBLISH
UID:61005@regionalniportaly.cz
DTSTAMP:20260422T123104Z
DTSTART;VALUE=DATE:20251218
DTEND;VALUE=DATE:20251219
SUMMARY:Romantic Woman - Vánoční koncert
DESCRIPTION:Prožijte předvánoční atmosféru v souznění krásných a romantických žen  \nNa koncertě zazní písně v originálních aranžích za doprovodu předního českého kvarteta pod vedením Ivo Görlicha. Keltskou atmosféru mimo unikátní zpěvy umocní skotské dudy\, bubny a další klasické nástroje. Diriguje Matyáš Vonz.\nZazní: Amazing Grace\, Loch Lomond\, Nella Fantasia\, O Holy Night a další známé melodie\, které dodají noblesu koncertu nejlepší úrovně.\nZpívají: Monika Sommerová\, Veronika Vršecká\, Jana Štěpánková a Barbora Janská Smejkalová\nVečerem provází oblíbený moderátor Honza Musil
LOCATION:Slaný
END:VEVENT
END:VCALENDAR