BEGIN:VCALENDAR
VERSION:2.0
CALSCALE:GREGORIAN
PRODID:-//MyApp//Calendar 1.0//EN
BEGIN:VEVENT
METHOD:PUBLISH
UID:61853@regionalniportaly.cz
DTSTAMP:20260422T021815Z
DTSTART;VALUE=DATE:20260210
DTEND;VALUE=DATE:20260211
SUMMARY:Pokračování Pamírského dobrodružství
DESCRIPTION:Pokračování Pamírského dobrodružství - Cestujeme přes celý Uzbekistán\, kolem Aralského jezera\, Kazachstán\, kolem Kaspického moře\, přes Rusko až do Gruzie.
LOCATION:Velvary
END:VEVENT
END:VCALENDAR