BEGIN:VCALENDAR
VERSION:2.0
CALSCALE:GREGORIAN
PRODID:-//MyApp//Calendar 1.0//EN
BEGIN:VEVENT
METHOD:PUBLISH
UID:62425@regionalniportaly.cz
DTSTAMP:20260422T060812Z
DTSTART;VALUE=DATE:20260205
DTEND;VALUE=DATE:20260206
SUMMARY:Mathias Sandberg Trio
DESCRIPTION:Mathias Sandberg Trio (FIN/CZE/DNK)Řízný jazz\, funk a nekompromisní grooveKytarista a skladatel Mathias Sandberg patří k „nejlépe střeženým finským tajemstvím“ – a rozhodně ne náhodou. Ročně odehraje přes stovku koncertů a řadí se mezi nejvýraznější jazzové kytaristy skandinávské scény. Studoval na Manhattan School of Music v New Yorku\, na Berklee College of Music v Bostonu\, hrál po boku legendárního amerického pianisty Briana Charetta\, česko-švédského kontrabasisty a skladatele Georga Riedela a mnoha dalších.&nbsp\;Se svou hudbou procestoval Evropu i Spojené státy. V únoru vystoupí v rámci 14-denního turné na Slovensku\, v Rakousku\, Česku\, Německu\, Dánsku a 5. února se úplně poprvé představí také u nás ve Slaném.”Excelentní album... má říz od začátku do konce” - Jazz Journal\, UK”Úžasné album... osvěžující přístup k tradičnímu žánru” - Rochester City News\, USA”Perfektní hudební lék pro jakoukoli příhodu” - All about Jazz\, USA&nbsp\;Sandbergovo debutové album The Doctor vyvolalo velkou pozornost kritiků a znělo v rádiích po celém světě – od Evropy a USA až po Jižní Ameriku\, Asii i Austrálii. Na vydání dlouho očekávaného druhého alba The Captain (2023) navázal šedesátidenním turné po Finsku. Deska nabízí strhující mix Sandbergovy řízné kytary s klasickým jazzem a nekompromisní funkovou energií. Vyniká silnými melodiemi\, rytmickou hravostí a téměř telepatickou souhrou celého tria.&nbsp\;&nbsp\;
LOCATION:Slaný
END:VEVENT
END:VCALENDAR