BEGIN:VCALENDAR
VERSION:2.0
CALSCALE:GREGORIAN
PRODID:-//MyApp//Calendar 1.0//EN
BEGIN:VEVENT
METHOD:PUBLISH
UID:63083@regionalniportaly.cz
DTSTAMP:20260422T030741Z
DTSTART;VALUE=DATE:20260320
DTEND;VALUE=DATE:20260321
SUMMARY:PLOY
DESCRIPTION:PLOY je trio ze Žižkova\, neustále rozšiřující své osobní vnímání života formou „fusion“.Kořeny tradičních hudebních žánrů zůstávají dobrým newtonovským základem pro výlety do říše kvant\, zvuků\, hluků\, slovního salátu a blábolení. Pop se strychninovým úsměvem\, jazz s příměsí TNT.Posluchač může očekávat zhudebněný fyzikální jev\, zápas ve vodním pólu\, ale také zpívanou vzpomínku na odsun\, nebo reflexi fenoménu sítí.Ploy v květnu 2024 vydali druhé studiové album ´Její jméno je Ploy´ u labelu Polí5.
LOCATION:Slaný
END:VEVENT
END:VCALENDAR