BEGIN:VCALENDAR
VERSION:2.0
CALSCALE:GREGORIAN
PRODID:-//MyApp//Calendar 1.0//EN
BEGIN:VEVENT
METHOD:PUBLISH
UID:65639@regionalniportaly.cz
DTSTAMP:20260421T221448Z
DTSTART;VALUE=DATE:20260515
DTEND;VALUE=DATE:20260516
SUMMARY:Blues Night
DESCRIPTION:BLUES NIGHT –&nbsp\;noc během které vystoupí hned tři kapely!Jazz Club Slaný pro Vás připravil jarní noc plnou blues rockové hudby\,&nbsp\;kde vystoupí hned tři svěží a nadmíru záživné kapely\, které do Slaného přinesou současný sound alternativně bluesové až rockové scény. Vedle českých bandů zahraje také vycházející hvězda bluesrocku z&nbsp\;dalekého New Yorku.&nbsp\;Strange Majik (NYC\, USA) – soul&nbsp\;/ funk /&nbsp\;blues /&nbsp\;indie rockStrange Majik je hudební alter ego Davida Pattilla\, umělce\, který spojuje žánry blues\, rocku a soulové hudby 70. let do moderních\, nezapomenutelných písní s klasickým nádechem. Díky ikonickému osobnímu stylu\, mistrovskému kytarovému umění a hlasu\, který rezonuje syrovými emocemi\, Majik předvádí naživo explozivní show… faktor „wow“ na mnoho dní. Newyorský časopis Deli Magazine ho označil za „kultovního hrdinu blues rocku“ a londýnský magazín Shindig Magazine ho nazval „ikonou NYC“.Janny Richter (CZ) – discobilly / electro-americana / post-punk popDržitel ocenění za hudbu k seriálu&nbsp\;Metoda Markovič: Hojer&nbsp\;propojuje country blues\, americanu a osmdesátkovou elektroniku do výbušného electro-boogie s rock’n’rollovým srdcem. Na pódiu působí jako zjevení — striktní abstinent s vizáží nejhledanějšího country desperáta a toxické rockové hvězdy sedmdesátých let. Charismatický performer s městským srdcem a venkovskou duší.Dost moudrý na to\, aby ztratil rozum v chaosu velkoměsta\, a dost šílený na to\, aby jej znovu nalezl v náručí montanské divočiny. Návykové\, elektrizující skladby fungují stejně silně v klubech i na velkých festivalových pódiích — není divu\, že bývá označován za „nemanželské dítě“ Iggyho Popa a Depeche Mode.S partičkou podobně vyhlížející kumpánů slibuje jízdu na pomezí špinavé garáže a tanečního rauše.Band of Heysek (CZ) –&nbsp\;blues rock / dirty bluesKapela Band of Heysek je syrové a divoké bluesové trio z Brna\, známé svými drsnými\, originálními písněmi nasáklými duchem blues severního Mississippi. Od svého debutového alba Shovel &amp\; Mattock (2017) si vybudovali silnou základnu fanoušků doma i v zahraničí. Klíčovým milníkem byla jejich spolupráce s legendami Mississippi R.L. Boycem a Kennym Brownem\, jejímž výsledkem byla dvě alba nahraná v USA (2019). Jejich hudba rezonuje napříč Evropou\, USA a dokonce i Asií. V roce 2025 se vrátili do Mississippi\, aby nahráli své další album Sticky Ricky\, které&nbsp\; vyšlo začátkem roku 2026 u Indies Scope.-----------------------------------------------------------------------------------------------------------Koncert je pořádán jako "off-program" součást festivalu 59. Slánské&nbsp\;jazzové&nbsp\;dny.Tato akce je realizována s finančním přispěním Středočeského kraje\, města Slaný a Ministerstva Kultury ČR.
LOCATION:Slaný
END:VEVENT
END:VCALENDAR