BEGIN:VCALENDAR
VERSION:2.0
CALSCALE:GREGORIAN
PRODID:-//MyApp//Calendar 1.0//EN
BEGIN:VEVENT
METHOD:PUBLISH
UID:65801@regionalniportaly.cz
DTSTAMP:20260423T080211Z
DTSTART;VALUE=DATE:20260514
DTEND;VALUE=DATE:20260515
SUMMARY:Senegal - autem se čtyřmi dětmi
DESCRIPTION:Cesta do Senegalu!Zveme vás ve středu 14.5.2026 od 19 hod. do Velvarské Záložny na přednášku Kateřiny a Zdeňka Schusterových o své cestě se 4 dětmi do Senegalu. Budou vyprávět o dobrodružné jízdě\, svých zážitcích\, skutečném životě v africkém Senegalu i propojení Saint – Louis a Velvar.&nbsp\;
LOCATION:Velvary
END:VEVENT
END:VCALENDAR